Package: spatialDmelxsim Version: 1.0.0 Command: /home/biocbuild/bbs-3.14-bioc/R/bin/R CMD build --keep-empty-dirs --no-resave-data spatialDmelxsim StartedAt: 2022-04-13 10:42:40 -0400 (Wed, 13 Apr 2022) EndedAt: 2022-04-13 10:43:23 -0400 (Wed, 13 Apr 2022) EllapsedTime: 43.3 seconds RetCode: 0 Status: OK PackageFile: spatialDmelxsim_1.0.0.tar.gz PackageFileSize: 863.7 KiB