Package: tilingArray Version: 1.72.0 Command: /home/biocbuild/bbs-3.14-bioc/R/bin/R CMD build --keep-empty-dirs --no-resave-data tilingArray StartedAt: 2022-04-12 06:06:25 -0400 (Tue, 12 Apr 2022) EndedAt: 2022-04-12 06:06:57 -0400 (Tue, 12 Apr 2022) EllapsedTime: 32.2 seconds RetCode: 0 Status: OK PackageFile: tilingArray_1.72.0.tar.gz PackageFileSize: 3.24 MiB