git_url: https://git.bioconductor.org/packages/plotGrouper git_branch: RELEASE_3_14 git_last_commit: 6936cf8 git_last_commit_date: 2021-10-26 12:46:31 -0400 (Tue, 26 Oct 2021) Package: plotGrouper Version: 1.12.0 Maintainer: John D. Gagnon MaintainerEmail: john.gagnon.42 at gmail.com