Package: hypergraph Version: 1.66.0 Command: /Library/Frameworks/R.framework/Resources/bin/R CMD check --install=check:hypergraph.install-out.txt --library=/Library/Frameworks/R.framework/Resources/library --no-vignettes --timings hypergraph_1.66.0.tar.gz StartedAt: 2022-04-12 14:21:22 -0400 (Tue, 12 Apr 2022) EndedAt: 2022-04-12 14:22:07 -0400 (Tue, 12 Apr 2022) EllapsedTime: 44.7 seconds RetCode: 0 Status: OK CheckDir: hypergraph.Rcheck Warnings: 0