git_url: https://git.bioconductor.org/packages/diffcoexp git_branch: RELEASE_3_14 git_last_commit: 05e288d git_last_commit_date: 2021-10-26 12:42:37 -0400 (Tue, 26 Oct 2021) Package: diffcoexp Version: 1.14.0 Maintainer: Wenbin Wei MaintainerEmail: wenbin.wei2 at durham.ac.uk