git_url: https://git.bioconductor.org/packages/msqc1 git_branch: RELEASE_3_13 git_last_commit: 1d3a3bb git_last_commit_date: 2021-05-19 11:56:09 -0400 (Wed, 19 May 2021) Package: msqc1 Version: 1.20.0 Maintainer: Christian Panse MaintainerEmail: cp at fgcz.ethz.ch