Package: miRcompData Version: 1.22.0 Command: /home/biocbuild/bbs-3.13-bioc/R/bin/R CMD build --keep-empty-dirs --no-resave-data miRcompData StartedAt: 2021-10-16 12:21:40 -0400 (Sat, 16 Oct 2021) EndedAt: 2021-10-16 12:21:41 -0400 (Sat, 16 Oct 2021) EllapsedTime: 1.2 seconds RetCode: 0 Status: OK PackageFile: miRcompData_1.22.0.tar.gz PackageFileSize: 8.654 MiB