Package: TCGAbiolinksGUI.data Version: 1.12.0 Command: /home/biocbuild/bbs-3.13-bioc/R/bin/R CMD INSTALL TCGAbiolinksGUI.data StartedAt: 2021-10-16 11:03:13 -0400 (Sat, 16 Oct 2021) EndedAt: 2021-10-16 11:04:47 -0400 (Sat, 16 Oct 2021) EllapsedTime: 93.5 seconds RetCode: 0 Status: OK