Package: TCGAbiolinksGUI.data Version: 1.12.0 Command: /home/biocbuild/bbs-3.13-bioc/R/bin/R CMD check --install=check:TCGAbiolinksGUI.data.install-out.txt --library=/home/biocbuild/bbs-3.13-bioc/R/library --no-vignettes --timings TCGAbiolinksGUI.data_1.12.0.tar.gz StartedAt: 2021-10-16 14:07:31 -0400 (Sat, 16 Oct 2021) EndedAt: 2021-10-16 14:08:16 -0400 (Sat, 16 Oct 2021) EllapsedTime: 45.1 seconds RetCode: 0 Status: OK CheckDir: TCGAbiolinksGUI.data.Rcheck Warnings: 0