Package: RforProteomics Version: 1.30.1 Command: /home/biocbuild/bbs-3.13-bioc/R/bin/R CMD INSTALL RforProteomics StartedAt: 2021-10-16 11:21:12 -0400 (Sat, 16 Oct 2021) EndedAt: 2021-10-16 11:21:27 -0400 (Sat, 16 Oct 2021) EllapsedTime: 15.2 seconds RetCode: 0 Status: OK