git_url: https://git.bioconductor.org/packages/OnassisJavaLibs git_branch: RELEASE_3_13 git_last_commit: 0ea7a6f git_last_commit_date: 2021-05-19 12:01:10 -0400 (Wed, 19 May 2021) Package: OnassisJavaLibs Version: 1.14.0 Maintainer: Eugenia Galeota MaintainerEmail: eugenia.galeota at gmail.com