git_url: https://git.bioconductor.org/packages/MIGSAdata git_branch: RELEASE_3_13 git_last_commit: 43e243e git_last_commit_date: 2021-05-19 12:00:48 -0400 (Wed, 19 May 2021) Package: MIGSAdata Version: 1.16.0 Maintainer: Juan C. Rodriguez MaintainerEmail: jcrodriguez at bdmg.com.ar