git_url: https://git.bioconductor.org/packages/DmelSGI git_branch: RELEASE_3_13 git_last_commit: df09a68 git_last_commit_date: 2021-05-19 11:49:50 -0400 (Wed, 19 May 2021) Package: DmelSGI Version: 1.24.0 Maintainer: Mike Smith MaintainerEmail: mike.smith at embl.de