Package: systemPipeTools Version: 1.0.0 Command: /Library/Frameworks/R.framework/Versions/Current/Resources/bin/R CMD INSTALL systemPipeTools StartedAt: 2021-10-14 09:45:09 -0400 (Thu, 14 Oct 2021) EndedAt: 2021-10-14 09:46:01 -0400 (Thu, 14 Oct 2021) EllapsedTime: 51.1 seconds RetCode: 0 Status: OK