Package: systemPipeTools Version: 1.0.0 Command: /Library/Frameworks/R.framework/Versions/Current/Resources/bin/R CMD check --install=check:systemPipeTools.install-out.txt --library=/Library/Frameworks/R.framework/Versions/Current/Resources/library --no-vignettes --timings systemPipeTools_1.0.0.tar.gz StartedAt: 2021-10-15 00:35:10 -0400 (Fri, 15 Oct 2021) EndedAt: 2021-10-15 00:42:16 -0400 (Fri, 15 Oct 2021) EllapsedTime: 426.4 seconds RetCode: 0 Status: OK CheckDir: systemPipeTools.Rcheck Warnings: 0