Package: systemPipeTools Version: 1.0.0 Command: rm -rf systemPipeTools.buildbin-libdir && mkdir systemPipeTools.buildbin-libdir && /Users/biocbuild/BBS/utils/build-universal.sh systemPipeTools_1.0.0.tar.gz /Library/Frameworks/R.framework/Versions/Current/Resources/bin/R systemPipeTools.buildbin-libdir StartedAt: 2021-10-15 04:11:12 -0400 (Fri, 15 Oct 2021) EndedAt: 2021-10-15 04:12:33 -0400 (Fri, 15 Oct 2021) EllapsedTime: 81.1 seconds RetCode: 0 Status: OK PackageFile: systemPipeTools_1.0.0.tgz PackageFileSize: 910.7 KiB