Package: omicplotR Version: 1.12.0 Command: chmod a+r omicplotR -R && C:\Users\biocbuild\bbs-3.13-bioc\R\bin\R.exe CMD build --keep-empty-dirs --no-resave-data omicplotR StartedAt: 2021-10-14 16:13:47 -0400 (Thu, 14 Oct 2021) EndedAt: 2021-10-14 16:15:00 -0400 (Thu, 14 Oct 2021) EllapsedTime: 72.8 seconds RetCode: 0 Status: OK PackageFile: omicplotR_1.12.0.tar.gz PackageFileSize: 1.624 MiB