Package: omicplotR Version: 1.12.0 Command: /home/biocbuild/bbs-3.13-bioc/R/bin/R CMD check --install=check:omicplotR.install-out.txt --library=/home/biocbuild/bbs-3.13-bioc/R/library --no-vignettes --timings omicplotR_1.12.0.tar.gz StartedAt: 2021-10-14 10:51:21 -0400 (Thu, 14 Oct 2021) EndedAt: 2021-10-14 10:53:09 -0400 (Thu, 14 Oct 2021) EllapsedTime: 108.0 seconds RetCode: 0 Status: OK CheckDir: omicplotR.Rcheck Warnings: 0