Package: omicplotR Version: 1.12.0 Command: /Library/Frameworks/R.framework/Versions/Current/Resources/bin/R CMD check --install=check:omicplotR.install-out.txt --library=/Library/Frameworks/R.framework/Versions/Current/Resources/library --no-vignettes --timings omicplotR_1.12.0.tar.gz StartedAt: 2021-10-14 21:52:11 -0400 (Thu, 14 Oct 2021) EndedAt: 2021-10-14 21:54:52 -0400 (Thu, 14 Oct 2021) EllapsedTime: 160.3 seconds RetCode: 0 Status: OK CheckDir: omicplotR.Rcheck Warnings: 0