git_url: https://git.bioconductor.org/packages/msgbsR git_branch: RELEASE_3_13 git_last_commit: eee8300 git_last_commit_date: 2021-05-19 12:27:52 -0400 (Wed, 19 May 2021) Package: msgbsR Version: 1.16.0 Maintainer: Benjamin Mayne MaintainerEmail: benjamin.mayne at adelaide.edu.au