Package: beadarray Version: 2.42.0 Command: /Library/Frameworks/R.framework/Versions/Current/Resources/bin/R CMD INSTALL beadarray StartedAt: 2021-10-14 08:52:27 -0400 (Thu, 14 Oct 2021) EndedAt: 2021-10-14 08:53:23 -0400 (Thu, 14 Oct 2021) EllapsedTime: 56.1 seconds RetCode: 0 Status: OK