Package: beadarray Version: 2.42.0 Command: /Library/Frameworks/R.framework/Versions/Current/Resources/bin/R CMD check --install=check:beadarray.install-out.txt --library=/Library/Frameworks/R.framework/Versions/Current/Resources/library --no-vignettes --timings beadarray_2.42.0.tar.gz StartedAt: 2021-10-14 16:37:16 -0400 (Thu, 14 Oct 2021) EndedAt: 2021-10-14 16:45:44 -0400 (Thu, 14 Oct 2021) EllapsedTime: 508.6 seconds RetCode: 0 Status: OK CheckDir: beadarray.Rcheck Warnings: 0