Package: beadarray Version: 2.42.0 Command: /Library/Frameworks/R.framework/Versions/Current/Resources/bin/R CMD build --keep-empty-dirs --no-resave-data beadarray StartedAt: 2021-10-14 10:45:22 -0400 (Thu, 14 Oct 2021) EndedAt: 2021-10-14 10:49:58 -0400 (Thu, 14 Oct 2021) EllapsedTime: 275.8 seconds RetCode: 0 Status: OK PackageFile: beadarray_2.42.0.tar.gz PackageFileSize: 2.301 MiB