git_url: https://git.bioconductor.org/packages/ReactomePA git_branch: RELEASE_3_13 git_last_commit: 78eb2e3 git_last_commit_date: 2021-05-19 11:51:50 -0400 (Wed, 19 May 2021) Package: ReactomePA Version: 1.36.0 Maintainer: Guangchuang Yu MaintainerEmail: guangchuangyu at gmail.com