Package: NanoStringQCPro Version: 1.24.0 Command: /Library/Frameworks/R.framework/Versions/Current/Resources/bin/R CMD build --keep-empty-dirs --no-resave-data NanoStringQCPro StartedAt: 2021-10-14 13:30:18 -0400 (Thu, 14 Oct 2021) EndedAt: 2021-10-14 13:30:28 -0400 (Thu, 14 Oct 2021) EllapsedTime: 10.5 seconds RetCode: 0 Status: OK PackageFile: NanoStringQCPro_1.24.0.tar.gz PackageFileSize: 247.1 KiB